{
 "currentVersion": 11.5,
 "cimVersion": "3.5.0",
 "serviceDescription": "",
 "mapName": "Nouveau bloc de données",
 "description": "",
 "copyrightText": "",
 "supportsDynamicLayers": true,
 "layers": [
  {
   "id": 0,
   "name": "entgdbpostgres.admsde.Etendu_France_Raster_Poygone_V2",
   "parentLayerId": -1,
   "defaultVisibility": true,
   "subLayerIds": null,
   "minScale": 0,
   "maxScale": 0,
   "type": "Feature Layer",
   "geometryType": "esriGeometryPolygon",
   "supportsDynamicLegends": true
  }
 ],
 "tables": [],
 "spatialReference": {
  "wkid": 3947,
  "latestWkid": 3947,
  "xyTolerance": 0.001,
  "zTolerance": 0.001,
  "mTolerance": 0.001,
  "falseX": -34579800,
  "falseY": -24122100,
  "xyUnits": 1.2413518341805895E8,
  "falseZ": -100000,
  "zUnits": 10000,
  "falseM": -100000,
  "mUnits": 10000
 },
 "singleFusedMapCache": true,
 "tileInfo": {
  "rows": 512,
  "cols": 512,
  "dpi": 96,
  "format": "MIXED",
  "compressionQuality": 100,
  "origin": {
   "x": -34579800,
   "y": 48437500
  },
  "spatialReference": {
   "wkid": 3947,
   "latestWkid": 3947,
   "xyTolerance": 0.001,
   "zTolerance": 0.001,
   "mTolerance": 0.001,
   "falseX": -34579800,
   "falseY": -24122100,
   "xyUnits": 1.2413518341805895E8,
   "falseZ": -100000,
   "zUnits": 10000,
   "falseM": -100000,
   "mUnits": 10000
  },
  "lods": [
   {
    "level": 0,
    "resolution": 2000.0000000000002,
    "scale": 7559040
   },
   {
    "level": 1,
    "resolution": 1000.0000000000001,
    "scale": 3779520
   },
   {
    "level": 2,
    "resolution": 500.00000000000006,
    "scale": 1889760
   },
   {
    "level": 3,
    "resolution": 250.00000000000003,
    "scale": 944880
   },
   {
    "level": 4,
    "resolution": 100,
    "scale": 377952
   },
   {
    "level": 5,
    "resolution": 50,
    "scale": 188976
   },
   {
    "level": 6,
    "resolution": 25,
    "scale": 94488
   },
   {
    "level": 7,
    "resolution": 9.9999470832275,
    "scale": 37795
   },
   {
    "level": 8,
    "resolution": 5.000105833545001,
    "scale": 18898
   },
   {
    "level": 9,
    "resolution": 2.5000529167725003,
    "scale": 9449
   },
   {
    "level": 10,
    "resolution": 1.0001270002540006,
    "scale": 3780
   },
   {
    "level": 11,
    "resolution": 0.5000635001270003,
    "scale": 1890
   },
   {
    "level": 12,
    "resolution": 0.26458386250105836,
    "scale": 1000
   }
  ]
 },
 "storageInfo": {
  "storageFormat": "esriMapCacheStorageModeCompactV2",
  "packetSize": 128
 },
 "initialExtent": {
  "xmin": 992983.502394999,
  "ymin": 6160878.250279431,
  "xmax": 2334688.269105,
  "ymax": 6915753.894372732,
  "spatialReference": {
   "wkid": 3947,
   "latestWkid": 3947,
   "xyTolerance": 0.001,
   "zTolerance": 0.001,
   "mTolerance": 0.001,
   "falseX": -34579800,
   "falseY": -24122100,
   "xyUnits": 1.2413518341805895E8,
   "falseZ": -100000,
   "zUnits": 10000,
   "falseM": -100000,
   "mUnits": 10000
  }
 },
 "fullExtent": {
  "xmin": 1053970.0826999992,
  "ymin": 5544171.402600002,
  "xmax": 2273701.6887999997,
  "ymax": 6721569.5907999985,
  "spatialReference": {
   "wkid": 3947,
   "latestWkid": 3947,
   "xyTolerance": 0.001,
   "zTolerance": 0.001,
   "mTolerance": 0.001,
   "falseX": -34579800,
   "falseY": -24122100,
   "xyUnits": 1.2413518341805895E8,
   "falseZ": -100000,
   "zUnits": 10000,
   "falseM": -100000,
   "mUnits": 10000
  }
 },
 "datesInUnknownTimezone": false,
 "minScale": 7559040,
 "maxScale": 3780,
 "units": "esriMeters",
 "supportedImageFormatTypes": "PNG32,PNG24,PNG,JPG,DIB,TIFF,EMF,PS,PDF,GIF,SVG,SVGZ,BMP",
 "documentInfo": {
  "Title": "",
  "Author": "",
  "Comments": "",
  "Subject": "premier_service_CR",
  "Category": "",
  "Version": "10.1",
  "AntialiasingMode": "None",
  "TextAntialiasingMode": "Force",
  "Keywords": "FIANANCES"
 },
 "supportsQueryDomains": true,
 "capabilities": "Map,Query,Data",
 "supportedQueryFormats": "JSON, geoJSON, PBF",
 "exportTilesAllowed": false,
 "referenceScale": 0.0,
 "supportsDatumTransformation": true,
 "archivingInfo": {
  "supportsHistoricMoment": false
 },
 "supportsClipping": true,
 "supportsSpatialFilter": true,
 "supportsTimeRelation": true,
 "supportsQueryDataElements": true,
 "mapUnits": {
  "uwkid": 9001
 },
 "maxSelectionCount": 2000,
 "maxRecordCount": 1000,
 "maxImageHeight": 4096,
 "maxImageWidth": 4096,
 "supportedExtensions": "",
 "serviceItemId": "f5d3d7ec22f4449389f5bfbe860b2c5a"
}
